BEGIN:VCALENDAR
VERSION:2.0
PRODID:-//Anke Pachauer – Gesund &amp; strahlend im richtigen Umfeld - ECPv6.15.18//NONSGML v1.0//EN
CALSCALE:GREGORIAN
METHOD:PUBLISH
X-WR-CALNAME:Anke Pachauer – Gesund &amp; strahlend im richtigen Umfeld
X-ORIGINAL-URL:https://ankepachauer.de
X-WR-CALDESC:Veranstaltungen für Anke Pachauer – Gesund &amp; strahlend im richtigen Umfeld
REFRESH-INTERVAL;VALUE=DURATION:PT1H
X-Robots-Tag:noindex
X-PUBLISHED-TTL:PT1H
BEGIN:VTIMEZONE
TZID:Europe/Berlin
BEGIN:DAYLIGHT
TZOFFSETFROM:+0100
TZOFFSETTO:+0200
TZNAME:CEST
DTSTART:20240331T010000
END:DAYLIGHT
BEGIN:STANDARD
TZOFFSETFROM:+0200
TZOFFSETTO:+0100
TZNAME:CET
DTSTART:20241027T010000
END:STANDARD
BEGIN:DAYLIGHT
TZOFFSETFROM:+0100
TZOFFSETTO:+0200
TZNAME:CEST
DTSTART:20250330T010000
END:DAYLIGHT
BEGIN:STANDARD
TZOFFSETFROM:+0200
TZOFFSETTO:+0100
TZNAME:CET
DTSTART:20251026T010000
END:STANDARD
BEGIN:DAYLIGHT
TZOFFSETFROM:+0100
TZOFFSETTO:+0200
TZNAME:CEST
DTSTART:20260329T010000
END:DAYLIGHT
BEGIN:STANDARD
TZOFFSETFROM:+0200
TZOFFSETTO:+0100
TZNAME:CET
DTSTART:20261025T010000
END:STANDARD
END:VTIMEZONE
BEGIN:VEVENT
DTSTART;VALUE=DATE:20250907
DTEND;VALUE=DATE:20250908
DTSTAMP:20260422T120814
CREATED:20250828T203556Z
LAST-MODIFIED:20250828T210151Z
UID:10000043-1757203200-1757289599@ankepachauer.de
SUMMARY:Ayurveda Workshop bei The Practice Yoga Shala (Mainz)
DESCRIPTION:Ayurveda verstehen – eine Einladung zurück zu dir. \nIch freue mich\, diesen besonderen Workshop in Mainz anbieten zu können – gemeinsam mit und bei Andreas\, The Practice Yoga Shala. \n\nVormittag: Yoga mit Andreas – erlebe Bewegung\, Atem und Praxis\, die dich ins Spüren bringt.\nNachmittag: Ayurveda mit mir – mit Impulsen für mehr Balance in deinem Leben.\n\nDu kannst an beiden Teilen teilnehmen – oder dich für einen entscheiden. \n„The Flow“ gehört zu einer meiner Lieblingsklassen\n90 Minuten persönliche Wohlfühlenergie in einer atemgeführten Hatha Vinyasa Parampara Praxis auf Medium-Level. Du startest mit angenehmen Atemübungen\, aktivierenden Bewegungen und gehst von hier aus in eine der Tageszeit perfekt angepassten Sequenz über. The Flow zentriert und aktiviert dich auf angenehme Art und Weise und gibt dir das\, was du für deinen Tag brauchst.  \nIm Ayurveda-Teil des Tages erzähle ich dir: \n\nwas Ayurveda wirklich ist – jenseits von Klischees und Typentests\nwie Ayurveda und Yoga zusammengehören – in Philosophie und Praxis\nwas die Doshas bedeuten und wie du sie in dir wahrnehmen kannst\nwarum „Svastha“ (Gesundheit) mehr ist als „nicht krank sein“\nwie du Ayurveda konkret und einfach in deinen Alltag integrierst – durch Ernährung\, Rituale\, Selbstwahrnehmung\n\n\nFür wen? \nOffen für alle – kein Vorwissen nötig.Verständlich\, undogmatisch und nahbar. \n\nEckdaten \nWann: 7. September 2025Vormittag Yoga\, Nachmittag AyurvedaWo: The Practice\, MainzKosten: 29 € \nKomm wie du bist – und nimm ganz viel gute Energie und Inspiration mit. \nInfos & Buchung direkt über The Practice:
URL:https://ankepachauer.de/event/ayurveda-workshop-bei-the-practice-yoga-shala-mainz/
ATTACH;FMTTYPE=image/png:https://ankepachauer.de/wp-content/uploads/2025/08/The-practice-e1756414614989.png
END:VEVENT
END:VCALENDAR