BEGIN:VCALENDAR
VERSION:2.0
PRODID:-//Anke Pachauer – Gesund &amp; strahlend im richtigen Umfeld - ECPv6.15.20//NONSGML v1.0//EN
CALSCALE:GREGORIAN
METHOD:PUBLISH
X-ORIGINAL-URL:https://ankepachauer.de
X-WR-CALDESC:Veranstaltungen für Anke Pachauer – Gesund &amp; strahlend im richtigen Umfeld
REFRESH-INTERVAL;VALUE=DURATION:PT1H
X-Robots-Tag:noindex
X-PUBLISHED-TTL:PT1H
BEGIN:VTIMEZONE
TZID:Europe/Berlin
BEGIN:DAYLIGHT
TZOFFSETFROM:+0100
TZOFFSETTO:+0200
TZNAME:CEST
DTSTART:20240331T010000
END:DAYLIGHT
BEGIN:STANDARD
TZOFFSETFROM:+0200
TZOFFSETTO:+0100
TZNAME:CET
DTSTART:20241027T010000
END:STANDARD
BEGIN:DAYLIGHT
TZOFFSETFROM:+0100
TZOFFSETTO:+0200
TZNAME:CEST
DTSTART:20250330T010000
END:DAYLIGHT
BEGIN:STANDARD
TZOFFSETFROM:+0200
TZOFFSETTO:+0100
TZNAME:CET
DTSTART:20251026T010000
END:STANDARD
BEGIN:DAYLIGHT
TZOFFSETFROM:+0100
TZOFFSETTO:+0200
TZNAME:CEST
DTSTART:20260329T010000
END:DAYLIGHT
BEGIN:STANDARD
TZOFFSETFROM:+0200
TZOFFSETTO:+0100
TZNAME:CET
DTSTART:20261025T010000
END:STANDARD
END:VTIMEZONE
BEGIN:VEVENT
DTSTART;TZID=Europe/Berlin:20250914T140000
DTEND;TZID=Europe/Berlin:20250914T173000
DTSTAMP:20260424T131858
CREATED:20250616T152324Z
LAST-MODIFIED:20250913T084224Z
UID:10000036-1757858400-1757871000@ankepachauer.de
SUMMARY:Ayurveda Basis-Kochkurs - Energie\, Balance & Strahlen von innen
DESCRIPTION:Ayurvedisch kochen – für Glow\, Ausstrahlung & innere Balance ✨ \nDieser Kurs ist eine Einladung\, dich von innen heraus zum Strahlen zu bringen.Du aktivierst du deinen Stoffwechsel\, nährst deine Gewebe (Dhatus) und schenkst deinen Zellen das\, was sie wirklich brauchen: Energie\, Leuchtkraft und Regeneration. Ayurveda wirkt nicht nur auf den Körper – es verfeinert auch dein Strahlen\, deine Präsenz\, dein Wohlgefühl im Alltag. \nWas dich erwartet:• Ayurveda-Grundlagen\, die verständlich und direkt anwendbar sind• Rezepte für Zellgesundheit\, Glow und Stoffwechselkraft• Nahrung\, die dich satt UND strahlend macht – ohne Dogma\, voller Sinnlichkeit• Alltags-Tipps\, die leicht integrierbar sind und nachhaltig stärken \nAuf dem Menü stehen:– Ayurvedisches Frühstück für Energie & Leuchtkraft– Hausgemachter Paneer & nährende Molke– Selbstgemachtes Ghee – Gold für dein Gewebe– Wärmende Ayurveda-Bowl für innere Balance– Snackvarianten & süßer Abschluss – köstlich und gesund \nFür wen ist der Kurs geeignet?Für alle\, die …\n– Ayurveda spüren und leben wollen – neu oder vertiefend– ihren Stoffwechsel aktivieren & ihr Immunsystem stärken möchten– mehr Energie\, Ausstrahlung und innere Ruhe suchen– einfache\, nährende Rezepte für Alltag & Genuss wollen\n– Freude am Kochen\, Ausprobieren und gemeinsamer Zeit haben \nOrt: Co-Working M1\, Anni-Eisler-Lehmann-Str. 3\, 55122MainzDauer: 3\,5 StundenBeitrag: 145 € inkl. Rezepte & Ghee zum Mitnehmen
URL:https://ankepachauer.de/event/ayurveda-basis-kochkurs-energie-balance-strahlen-von-innen-2/
ATTACH;FMTTYPE=image/png:https://ankepachauer.de/wp-content/uploads/2025/05/2-2.png
END:VEVENT
END:VCALENDAR