BEGIN:VCALENDAR
VERSION:2.0
PRODID:-//Anke Pachauer – Gesund &amp; strahlend im richtigen Umfeld - ECPv6.15.20//NONSGML v1.0//EN
CALSCALE:GREGORIAN
METHOD:PUBLISH
X-WR-CALNAME:Anke Pachauer – Gesund &amp; strahlend im richtigen Umfeld
X-ORIGINAL-URL:https://ankepachauer.de
X-WR-CALDESC:Veranstaltungen für Anke Pachauer – Gesund &amp; strahlend im richtigen Umfeld
REFRESH-INTERVAL;VALUE=DURATION:PT1H
X-Robots-Tag:noindex
X-PUBLISHED-TTL:PT1H
BEGIN:VTIMEZONE
TZID:Europe/Berlin
BEGIN:DAYLIGHT
TZOFFSETFROM:+0100
TZOFFSETTO:+0200
TZNAME:CEST
DTSTART:20230326T010000
END:DAYLIGHT
BEGIN:STANDARD
TZOFFSETFROM:+0200
TZOFFSETTO:+0100
TZNAME:CET
DTSTART:20231029T010000
END:STANDARD
BEGIN:DAYLIGHT
TZOFFSETFROM:+0100
TZOFFSETTO:+0200
TZNAME:CEST
DTSTART:20240331T010000
END:DAYLIGHT
BEGIN:STANDARD
TZOFFSETFROM:+0200
TZOFFSETTO:+0100
TZNAME:CET
DTSTART:20241027T010000
END:STANDARD
BEGIN:DAYLIGHT
TZOFFSETFROM:+0100
TZOFFSETTO:+0200
TZNAME:CEST
DTSTART:20250330T010000
END:DAYLIGHT
BEGIN:STANDARD
TZOFFSETFROM:+0200
TZOFFSETTO:+0100
TZNAME:CET
DTSTART:20251026T010000
END:STANDARD
END:VTIMEZONE
BEGIN:VEVENT
DTSTART;TZID=Europe/Berlin:20241021T190000
DTEND;TZID=Europe/Berlin:20241021T210000
DTSTAMP:20260424T123509
CREATED:20240716T165444Z
LAST-MODIFIED:20241008T123731Z
UID:10000017-1729537200-1729544400@ankepachauer.de
SUMMARY:Deine Ayurveda Identität - Lebensumfeld & Urnatur - Teil II
DESCRIPTION:Teil 2: Übertragung der Prakriti in dein Lebensumfeld – Individuelle Gestaltung\n \nUm den Themen in diesem Workshop folgen zu können\, solltest du Teil 1 besucht haben 🙂 \nIm zweiten Teil des Einstiegs-Workshops „Deine Ayurveda-Identität – Lebensumfeld und Urnatur im Einklang!“ vertiefen wir das Verständnis deiner natürlichen Anteile und zeigen die Zusammenhänge zwischen Urnatur und einem Wohlfühl-Umfeld auf. Kleine Goodie: Wir streifen auch das Thema Kleiderschrank\, um zu verstehen\, wie die Dinge ganzheitlich zusammenhängen. Denn die Prinzipien der Stärkung deiner Urnatur durch das Lebensumfeld kannst du auf alles übertragen\, auch auf deine Garderobe. \nIn diesem Online-Workshop wirst du: \n\nFormen und ihre Wirkung verstehen: Erfahre\, wie unterschiedliche Formen in deinem Wohnraum dein Wohlbefinden beeinflussen und welche Formen deine Urnatur am besten unterstützen.\nDie Bedeutung von Materialien entdecken: Lerne die Eigenschaften verschiedener Materialien kennen und wie sie deine Doshas fördern können\, um ein harmonisches und unterstützendes Umfeld zu schaffen.\nDie passenden Muster erkennen: Erkenne die Wirkung der unterschiedlichen Muster und erfahre\, welche am besten zu deiner Identität passen.\nImpuls für eine Dosha-Collage: Bilder sagen mehr als tausend Worte. Erfahre\, wie du die Elemente deiner Identität in eine inspirierende Collage übertragen kannst.\nKreative Lösungen entwickeln: Erhalte praktische Tipps und kreative Ansätze\, um deine Wohnräume so zu gestalten\, dass sie deine innere Balance und dein Wohlbefinden unterstützen.\n\nDieser Workshop bietet dir eine einzigartige Gelegenheit\, tiefer in die Prinzipien des Ayurveda einzutauchen und praktische Lösungen für dein Zuhause zu finden. Lass dich inspirieren und finde heraus\, wie du durch gezielte Veränderungen ein Leben im Einklang mit deiner Urnatur führen kannst! \nOnline Zoom Workshop\nDauer: 2 Stunden\n \nIch zeichne den Workshop auf\, so dass du die Aufzeichnung erhalten kannst\, falls du am Termin kurzfristig verhindert sein solltest! \nErlebe\, wie kleine Veränderungen große Wirkung haben können und starte deine Reise zu einem harmonischeren und ausgeglicheneren Leben\, das deine Lebensqualität und dein Selbstbewusstsein nachhaltig stärkt!
URL:https://ankepachauer.de/event/identitaet-lebensumfeld-ii/
ATTACH;FMTTYPE=image/png:https://ankepachauer.de/wp-content/uploads/2024/07/Anke2.png
END:VEVENT
BEGIN:VEVENT
DTSTART;TZID=Europe/Berlin:20241020T140000
DTEND;TZID=Europe/Berlin:20241020T170000
DTSTAMP:20260424T123509
CREATED:20240923T111348Z
LAST-MODIFIED:20240923T111435Z
UID:10000019-1729432800-1729443600@ankepachauer.de
SUMMARY:Yin Yoga Workshop: Deep Relax & Ayurveda Flow
DESCRIPTION:Deep Relax & Ayurveda Flow \nErlebe drei Stunden tiefe Inspiration und Entspannung und lass dich von Volker und Anke durch eine wohltuende Kombination aus Yin Yoga und Ayurveda führen. Im Deep Relax & Ayurveda Flow Workshop erwarten dich sanfte Yin-Yoga-Sequenzen\, die dich zur Ruhe bringen und Verspannungen lösen. Dabei bekommst du wertvolle Tipps\, wie du Ayurveda in deinen Alltag integrieren kannst\, um langfristig zu mehr Balance und innerer Gelassenheit zu finden. \nAnke und Volker zeichnen sich durch ihre einzigartige Kombination aus tiefem Ayurveda-Wissen und Yin Yoga\, verbunden mit einem ganzheitlichen Ansatz\, der nicht nur körperliche\, sondern auch mentale und emotionale Aspekte berücksichtigt. Ihre Stärke ist es\, Theorie und Praxis des Ayurveda in leicht umsetzbare\, alltagstaugliche Impulse zu übersetzen. Dabei setzen sie auf eine intime Atmosphäre und individuelle Begleitung\, die auf fundierter Expertise und persönlicher Erfahrung beruht. \nAnke bringt ihre Erfahrung aus der Persönlichkeitsentwicklung und der Umfeldgestaltung (Svastha) ein\, während Volker als langjähriger Ayurveda-Experte sein umfangreiches Wissen aus der Ayurveda-Praxis und -Küche teilt. Diese Verbindung aus Yoga\, Ayurveda und persönlichem Wachstum macht ihre Workshops einzigartig und ganzheitlich. \nIn der entspannten Atmosphäre des Speicher7 kannst du die besondere Ruhe genießen und dich komplett fallen lassen. Nach dem Workshop hast du die Möglichkeit\, den Abend bei leckeren Tapas in der Speicher-Bar ausklingen zu lassen oder sogar im Hotel zu übernachten. \nWas du mitbringen solltest: Yoga-Kleidung\, eigene Yogamatte und Hilfsmittel (evtl. Blöcke\, Bolster und Gurt)\, etwas Warmes zum Anziehen\, Getränke. \nDatum: 20. Oktober\nZeit: 14-17 Uhr\nVeranstaltungsort: Speicher7\, Rheinvorlandstraße 7\, 68159 Mannheim (https://www.speicher7.com)\nKosten: 69 €\nAnmeldung: https://volkermehl.com/event/yoga-workshop-deep-relax-ayurveda-flow \nWir freuen uns auf dich – gönn dir eine Auszeit für Körper\, Geist und Seele!
URL:https://ankepachauer.de/event/yin-yoga-workshop-deep-relax-ayurveda-flow/
END:VEVENT
BEGIN:VEVENT
DTSTART;TZID=Europe/Berlin:20240916T190000
DTEND;TZID=Europe/Berlin:20240916T210000
DTSTAMP:20260424T123509
CREATED:20240716T221048Z
LAST-MODIFIED:20240916T153615Z
UID:10000018-1726513200-1726520400@ankepachauer.de
SUMMARY:Deine Ayurveda Identität - Lebensumfeld und Urnatur im Einklang\, Teil I
DESCRIPTION:Teil 1: Einstieg in deine Ayurveda-Identität – Lebensumfeld und Urnatur im Einklang! \nHast du dich jemals gefragt\, ob dein Lebensumfeld wirklich zu deinem Wohlbefinden und persönlichen Wachstum beiträgt? Tauche ein in die faszinierende Welt des Ayurveda und entdecke\, wie deine Umgebung dein inneres Gleichgewicht und deine Gesundheit beeinflussen kann. \nIn diesem spannenden Online-Workshop wirst du: \n\nDeine Prakriti entdecken: Erhalte tiefere Einblicke in deine persönliche Ayurveda-Identität durch unseren Prakriti-Analysebogen und entdecke\, welche Elemente wirklich zu dir passen.\nGrundlagen des ayurvedischen Wohnens: Lerne die grundlegenden Prinzipien des ayurvedischen Wohnens kennen und verstehe\, wie dein Lebensumfeld dein Wohlbefinden beeinflusst.\nDein Zuhause neu entdecken: Erkenne\, wie Farben\, Formen und Materialien in deinem Wohnraum dein Wohlbefinden fördern oder blockieren können.\nEinflussfaktoren auf das Wohlbefinden: Erfahre\, wie verschiedene Elemente in deinem Lebensumfeld\, wie Licht\, Geräusche und Gerüche\, dein Wohlbefinden und deine innere Balance beeinflussen können.\n\nDieser Workshop bietet dir eine einzigartige Gelegenheit\, dein Zuhause und dich selbst besser kennenzulernen und mit neuen Augen zu sehen. Lass dich inspirieren und finde heraus\, wie du durch gezielte Veränderungen in deiner Umgebung ein Leben im Einklang mit deiner Ayurveda-Identität führen und dein Zuhause in eine Quelle der Energie und des Wohlbefindens verwandeln kannst! \nOnline Zoom Workshop\nDauer: 2 Stunden \nIch zeichne den Workshop auf\, so dass du die Aufzeichnung erhalten kannst\, falls du am Termin kurzfristig verhindert sein solltest!
URL:https://ankepachauer.de/event/deine-ayurveda-identitaet-teil-i/
ATTACH;FMTTYPE=image/png:https://ankepachauer.de/wp-content/uploads/2024/04/Ayurveda-Prakriti.png
END:VEVENT
BEGIN:VEVENT
DTSTART;TZID=Europe/Berlin:20240716T190000
DTEND;TZID=Europe/Berlin:20240716T203000
DTSTAMP:20260424T123509
CREATED:20240417T115927Z
LAST-MODIFIED:20240716T123659Z
UID:10000014-1721156400-1721161800@ankepachauer.de
SUMMARY:Deine Ayurveda Identität - Online Impuls-Workshop
DESCRIPTION:Deine Ayurveda-Identität – Lebensumfeld und Urnatur im Einklang! \nHast du dich jemals gefragt\, ob dein Lebensumfeld wirklich zu deinem Wohlbefinden und persönlichen Wachstum beiträgt? Tauche ein in die faszinierende Welt des Ayurveda und entdecke\, wie deine Umgebung dein inneres Gleichgewicht und deine Gesundheit beeinflussen kann. \nIn diesem spannenden Online-Workshop wirst du: \n\nDein Zuhause neu entdecken: Erkenne\, wie Farben\, Formen und Materialien in deinem Wohnraum dein Wohlbefinden fördern oder blockieren können.\nAyurveda und Design vereinen: Lerne\, wie du ayurvedische Prinzipien mit modernen Gestaltungselementen kombinierst\, um eine harmonische und unterstützende Umgebung zu schaffen.\nDeine Identität stärken: Erhalte tiefere Einblicke in deine persönliche Ayurveda-Identität durch unseren Prakriti-Analysebogen und entdecke\, welche Elemente wirklich zu dir passen.\nKreative Lösungen entwickeln: Erfahre praktische Tipps und kreative Ansätze\, um deine Wohnräume so zu gestalten\, dass sie deine innere Balance und dein Wohlbefinden unterstützen.\n\nDieser Workshop bietet dir eine einzigartige Gelegenheit\, dein Zuhause und dich selbst besser kennenzulernen und mit neuen Augen zu sehen. Lass dich inspirieren und finde heraus\, wie du durch gezielte Veränderungen in deiner Umgebung ein Leben im Einklang mit deiner Ayurveda-Identität führen und dein Zuhause in eine Quelle der Energie und des Wohlbefindens verwandeln kannst!
URL:https://ankepachauer.de/event/lebensumfeld-und-urnatur-online-impuls-workshop/
ATTACH;FMTTYPE=image/png:https://ankepachauer.de/wp-content/uploads/2024/04/Ayurveda-Prakriti.png
END:VEVENT
BEGIN:VEVENT
DTSTART;TZID=Europe/Berlin:20240604T183000
DTEND;TZID=Europe/Berlin:20240604T203000
DTSTAMP:20260424T123509
CREATED:20240417T115514Z
LAST-MODIFIED:20240523T122621Z
UID:10000013-1717525800-1717533000@ankepachauer.de
SUMMARY:Wellness aus der Küche – Online Kochkurs
DESCRIPTION:Online Schnupperkurs zum Einsatz von Lebensmitteln für mehr Strahlen von innen und im Außen \nIn diesem Workshop zeig ich dir\, wie du die Kraft von ganz alltäglichen Lebensmitteln sowohl für deinen Stoffwechsel und deine gesunde Ausstrahlung von innen als auch für die kosmetische Pflege und ein strahlendes Äußeres einsetzen kannst. \nAus Zutaten wie Milch\, Kichererbsen\, Rosmarin und Orange machen wir jeweils einmal eine Gesichts- oder Körperpflege und etwas Nahrhaftes für „das leibliche Wohl“ . Wir kochen zusammen\, ich in unserer Kochwerkstatt und Du in Deiner Küche. \nKosten:\n39\,- €\, inkl. Rezepte \nOnline via Zoom (den Link inkl. Rezepte erhältst du rechtzeitig vorab)\nWir nehmen die Veranstaltung auf! Wenn du nicht live teilnehmen kannst\, dann bekommst du mit deiner Buchung den Zugang zum Video.
URL:https://ankepachauer.de/event/wellness-aus-der-kueche-online-kochkurs-3/
END:VEVENT
BEGIN:VEVENT
DTSTART;TZID=Europe/Berlin:20240430T183000
DTEND;TZID=Europe/Berlin:20240430T203000
DTSTAMP:20260424T123509
CREATED:20240417T115327Z
LAST-MODIFIED:20240417T115327Z
UID:10000012-1714501800-1714509000@ankepachauer.de
SUMMARY:Wellness aus der Küche – Online Kochkurs
DESCRIPTION:Online Schnupperkurs zum Einsatz von Lebensmitteln für gute Nährung von innen und außen \n„Schmiere dir nichts auf die Haut\, was du nicht auch essen würdest?“ \nIn diesem Workshop zeig ich dir\, wie du die Kraft von ganz alltäglichen Lebensmitteln sowohl für deinen Stoffwechsel und deine gesunde Ausstrahlung von innen als auch für die kosmetische Pflege und ein strahlendes Äußeres einsetzen kannst. \nAus Zutaten wie Milch\, Kichererbsen\, Rosmarin und Orange machen wir jeweils einmal eine Gesichts- oder Körperpflege und etwas Nahrhaftes für „das leibliche Wohl“ . \nKosten:\n39\,- €\, inkl. Rezepte \nOnline via Zoom (den Link inkl. Rezepte erhältst du rechtzeitig vorab)\nWir nehmen die Veranstaltung auf! Wenn du nicht live teilnehmen kannst\, dann bekommst du mit deiner Buchung den Zugang zum Video.
URL:https://ankepachauer.de/event/wellness-aus-der-kueche-online-kochkurs-2/
END:VEVENT
BEGIN:VEVENT
DTSTART;TZID=Europe/Berlin:20240420T110000
DTEND;TZID=Europe/Berlin:20240420T150000
DTSTAMP:20260424T123509
CREATED:20240417T114849Z
LAST-MODIFIED:20240417T114849Z
UID:10000011-1713610800-1713625200@ankepachauer.de
SUMMARY:Kochkurs: Natürlich schön mit Ayurveda
DESCRIPTION:Ein (Einsteiger-)Kochkurs\, der Dich zum Strahlen bringt. \nAlles beginnt mit der richtigen (Er-)Nährung. \nSchönheit ist keine Frage des Alters. Es ist ein Resultat dessen\, was Du Dir (selbst) zuführst und an Dich heranlässt. Vor allem Deine Ernährung hat einen enormen Einfluss auf Dein zukünftiges Ich – körperlich\, psychisch und physisch. Einen anderen Baustoff für Deine Zellen\, Deine Gedanken und die Essenz von allem – Deine Ausstrahlung – hast Du nicht! \nDieser Kurs thematisiert ein paar sehr einfachen Prinzipien einer gesunden\, körperintelligenten Ernährung nach Ayurveda\, die alles beinhaltet\, was Dein individueller Stoffwechsel braucht\, um bestmöglich versorgt zu sein und Dich von innen heraus strahlen lässt. \nDu lernst\, wie Du Deine natürliche\, gesunde Ausstrahlung und Deine individuelle Schönheit mit einer angemessenen Ernährung und passenden Kräuterrezepturen wirkungsvoll unterstützen kannst. Du erfährst außerdem\, welche Rolle das Verdauungsfeuer „Agni“ dabei spielt\, wie Du den Stoffwechselprozess anheizt und damit nicht nur für die Gewichtsregulation\, sondern auch die Strahlkraft sorgst und wie Du in zunehmendem Alter die „Schmatzigkeit“ erhältst und damit der Trockenheit der Haut\, Haare\, Gelenke und Durchlässigkeit\, auch emotional\, begegnest. \nDas Älterwerden können wir nicht aufhalten\, aber wir können uns dabei unsere Ausstrahlung und Frische bewahren – ohne\, dass wir zu anderen invasiven Mitteln greifen müssen als unserer Nahrung! – Wasser und Luft eingeschlossen. \nWir kochen gemeinsam u.a.: \n– Bunte Detox Frühstücks-Suppe\n– Glow Kugeln mit Shatavari\n– Vitamin Booster Bowl\n– „Schönheitsschlaf-Porridge“ \nSamstag\, 20. April 2024\n11 – 15 Uhr \nKosten: 149\,- Euro\, inkl. Rezepte \nVeranstaltungsort: Kochwerkstatt\, In der Krone 7\, 64646 Heppenheim
URL:https://ankepachauer.de/event/kochkurs-natuerlich-schoen-mit-ayurveda/
LOCATION:Kochwerkstatt\, In der Krone 7\, Heppenheim\, Hessen\, 64646\, Deutschland
ATTACH;FMTTYPE=image/png:https://ankepachauer.de/wp-content/uploads/2024/03/1.png
END:VEVENT
END:VCALENDAR